BEGIN:VCALENDAR
PRODID:-//Microsoft Corporation//Outlook 12.0 MIMEDIR//EN
VERSION:2.0
CALSCALE:GREGORIAN
BEGIN:VEVENT
UID: 8ac0dab0-5216-4def-a79b-d059e431566d
SUMMARY:ALGAVAD KOOLITUSED
DTSTAMP:20250101
DTSTART:20250101
DTEND:20260701
DURATION:P546D
LOCATION:Viljandi Kutseõppekeskus
DESCRIPTION: <p>Link ALGAVATELE koolitustele</p><p><a href="https://haridusportaal.edu.ee/koolitused-juhan?trainingOrganizer=Viljandi%20Kutse%C3%B5ppekeskus">https://haridusportaal.edu.ee/koolitused-juhan?trainingOrganizer=Viljandi%20Kutse%C3%B5ppekeskus</a></p><p><strong>Link: </strong>https://vikk.ee/et/koolituste-kalender/algavad-koolitused</p><p><strong>Hind: </strong></p>
STATUS:CONFIRMED
SEQUENCE:3
X-ALT-DESC;FMTTYPE=text/html:<p>Link ALGAVATELE koolitustele</p><p><a href="https://haridusportaal.edu.ee/koolitused-juhan?trainingOrganizer=Viljandi%20Kutse%C3%B5ppekeskus">https://haridusportaal.edu.ee/koolitused-juhan?trainingOrganizer=Viljandi%20Kutse%C3%B5ppekeskus</a></p><p><strong>Link: </strong>https://vikk.ee/et/koolituste-kalender/algavad-koolitused</p><p><strong>Hind: </strong></p>
X-MICROSOFT-CDO-BUSYSTATUS:OOF
X-MICROSOFT-CDO-IMPORTANCE:1
X-MICROSOFT-DISALLOW-COUNTER:FALSE
X-MS-OLK-ALLOWEXTERNCHECK:TRUE
X-MS-OLK-CONFTYPE:0
X-MICROSOFT-CDO-ALLDAYEVENT:1
X-MICROSOFT-MSNCALENDAR-ALLDAYEVENT:1
END:VEVENT
END:VCALENDAR