BEGIN:VCALENDAR
PRODID:-//Microsoft Corporation//Outlook 12.0 MIMEDIR//EN
VERSION:2.0
CALSCALE:GREGORIAN
BEGIN:VEVENT
UID: 6b36bbff-19c3-4788-aa74-4cc97a665644
SUMMARY:Sõitjateveo autojuhi täienduskoolitus
DTSTAMP:20260323
DTSTART:20260323
DTEND:20260328
DURATION:P5D
LOCATION:Viljandi Kutseõppekeskus
DESCRIPTION: <p>Koolituse tulemusena paranevad bussijuhi professionaalsed ja liiklusohutust tagavad oskused ning kaasajastuvad seadusandlust puudutavad teadmised. Kutselise bussijuhi jaoks on see iga viie aasta tagant kohustuslik koolitus.</p><p>Info ja registreerumine <a href="https://koolitus.edu.ee/training/19357">https://koolitus.edu.ee/training/19357</a></p><p><strong>Link: </strong>https://vikk.ee/et/koolituste-kalender/soitjateveo-autojuhi-taienduskoolitus-11</p><p><strong>Hind: </strong>199.00</p>
STATUS:CONFIRMED
SEQUENCE:3
X-ALT-DESC;FMTTYPE=text/html:<p>Koolituse tulemusena paranevad bussijuhi professionaalsed ja liiklusohutust tagavad oskused ning kaasajastuvad seadusandlust puudutavad teadmised. Kutselise bussijuhi jaoks on see iga viie aasta tagant kohustuslik koolitus.</p><p>Info ja registreerumine <a href="https://koolitus.edu.ee/training/19357">https://koolitus.edu.ee/training/19357</a></p><p><strong>Link: </strong>https://vikk.ee/et/koolituste-kalender/soitjateveo-autojuhi-taienduskoolitus-11</p><p><strong>Hind: </strong>199.00</p>
X-MICROSOFT-CDO-BUSYSTATUS:OOF
X-MICROSOFT-CDO-IMPORTANCE:1
X-MICROSOFT-DISALLOW-COUNTER:FALSE
X-MS-OLK-ALLOWEXTERNCHECK:TRUE
X-MS-OLK-CONFTYPE:0
X-MICROSOFT-CDO-ALLDAYEVENT:1
X-MICROSOFT-MSNCALENDAR-ALLDAYEVENT:1
END:VEVENT
END:VCALENDAR