BEGIN:VCALENDAR
PRODID:-//Microsoft Corporation//Outlook 12.0 MIMEDIR//EN
VERSION:2.0
CALSCALE:GREGORIAN
BEGIN:VEVENT
UID: 62a84940-dac7-45a9-91ce-8e3b873d667e
SUMMARY:Kodulehe loomise baaskoolitus Wordpressiga
DTSTAMP:20260507
DTSTART:20260507
DTEND:20260530
DURATION:P23D
LOCATION:Viljandi Kutseõppekeskus
DESCRIPTION: <p>Koolitusel õpitakse looma ja muutma lihtsamat kodulehte Wordpressi platvormil.</p><p>&nbsp;</p><p>Info ja registreerumine &nbsp;<a href="https://haridusportaal.edu.ee/koolitused-juhan/kodulehe-loomise-baaskoolitus-wordpressiga/37468696?openBlockTab=detailinfo">https://haridusportaal.edu.ee/koolitused-juhan/kodulehe-loomise-baaskoolitus-wordpressiga/37468696?openBlockTab=detailinfo</a></p><p><strong>Link: </strong>https://vikk.ee/et/koolituste-kalender/kodulehe-loomise-baaskoolitus-wordpressiga-0</p><p><strong>Hind: </strong>TASUTA</p>
STATUS:CONFIRMED
SEQUENCE:3
X-ALT-DESC;FMTTYPE=text/html:<p>Koolitusel õpitakse looma ja muutma lihtsamat kodulehte Wordpressi platvormil.</p><p>&nbsp;</p><p>Info ja registreerumine &nbsp;<a href="https://haridusportaal.edu.ee/koolitused-juhan/kodulehe-loomise-baaskoolitus-wordpressiga/37468696?openBlockTab=detailinfo">https://haridusportaal.edu.ee/koolitused-juhan/kodulehe-loomise-baaskoolitus-wordpressiga/37468696?openBlockTab=detailinfo</a></p><p><strong>Link: </strong>https://vikk.ee/et/koolituste-kalender/kodulehe-loomise-baaskoolitus-wordpressiga-0</p><p><strong>Hind: </strong>TASUTA</p>
X-MICROSOFT-CDO-BUSYSTATUS:OOF
X-MICROSOFT-CDO-IMPORTANCE:1
X-MICROSOFT-DISALLOW-COUNTER:FALSE
X-MS-OLK-ALLOWEXTERNCHECK:TRUE
X-MS-OLK-CONFTYPE:0
X-MICROSOFT-CDO-ALLDAYEVENT:1
X-MICROSOFT-MSNCALENDAR-ALLDAYEVENT:1
END:VEVENT
END:VCALENDAR